BEGIN:VCALENDAR
VERSION:2.0
PRODID:Imitheme.com
BEGIN:VEVENT
UID:20260424T002712-297236336
DTSTAMP;TZID=UTC:1776990432
DTSTART;TZID=Australia/Sydney:20260424T002712
DTEND;TZID=Australia/Sydney:20260424T002712
SUMMARY:Phoenix Rising.  A comedy
LOCATION:101 Mayne Street, Gulgong NSW 2852, Australia
DESCRIPTION: The Ten Commandments fall by the wayside in this outrageous two-hander.  Two women - one a lifelong people-pleaser, the other gloriously ruthless - morph through a whirlwind of characters.  Divine order turns upside down in a wickedly funny six-act comedy about karma finally catching up. Written and Directed by Michaeley O’Brien Featuring Kali Newcomb and Kathryn Maloney Doors open at 7pm. Patrons must be seated before the show begins at 7.30pm. Bonus: Show your play ticket to the Post Office Hotel by 5.30pm on show night to receive a free drink (house red/white/bubbly or standard beer) with any main meal purchase. (One deal per ticket). Please book with the Post Office Hotel in advance (6374-2608) to ensure seating. https://princeofwalesoperahouse.com.au/event/phoenix-rising-a-comedy/
URL:https://princeofwalesoperahouse.com.au/event/phoenix-rising-a-comedy/
END:VEVENT
END:VCALENDAR
