BEGIN:VCALENDAR
VERSION:2.0
PRODID:Imitheme.com
BEGIN:VEVENT
UID:20260424T002618-173796085
DTSTAMP;TZID=UTC:1776990378
DTSTART;TZID=Australia/Sydney:20260424T002618
DTEND;TZID=Australia/Sydney:20260424T002618
SUMMARY:Phoenix Rising.  A comedy (Matinee)
LOCATION:101 Mayne Street, Gulgong NSW 2852, Australia
DESCRIPTION: The Ten Commandments fall by the wayside in this outrageous two-hander.  Two women - one a lifelong people-pleaser, the other gloriously ruthless - morph through a whirlwind of characters.  Divine order turns upside down in a wickedly funny six-act comedy about karma finally catching up. Written and Directed by Michaeley O’Brien Featuring Kali Newcomb and Kathryn Maloney Doors open at 1.:30pm. Patrons must be seated before the show begins at 2:00pm. Bonus: Show your play ticket to the Post Office Hotel by midday on show day to receive a free drink (house red/white/bubbly or standard beer) with any main meal purchase. (One deal per ticket). Please book with the Post Office Hotel in advance (6374-2608) to ensure seating. https://princeofwalesoperahouse.com.au/event/phoenix-rising-a-comedy-3/
URL:https://princeofwalesoperahouse.com.au/event/phoenix-rising-a-comedy-3/
END:VEVENT
END:VCALENDAR
