BEGIN:VCALENDAR
VERSION:2.0
PRODID:Imitheme.com
BEGIN:VEVENT
UID:20260420T125410-1437987162
DTSTAMP;TZID=UTC:1776689650
DTSTART;TZID=Australia/Sydney:20260420T125410
DTEND;TZID=Australia/Sydney:20260420T125410
SUMMARY:Tracing the Light - A Piano Recital by Pu-Yu Wu
LOCATION:101 Mayne Street, Gulgong NSW 2852, Australia
DESCRIPTION: In a world that often feels uncertain and overwhelming, Tracing the Light is an invitation to pause, listen, and reconnect. https://princeofwalesoperahouse.com.au/event/tracing-the-light-a-piano-recital-by-pu-yu-wu/
URL:https://princeofwalesoperahouse.com.au/event/tracing-the-light-a-piano-recital-by-pu-yu-wu/
END:VEVENT
END:VCALENDAR
